BEGIN:VCALENDAR
VERSION:2.0
PRODID:icalendar-ruby
CALSCALE:GREGORIAN
METHOD:PUBLISH
BEGIN:VEVENT
DTSTAMP:20260422T175354Z
UID:5-401830@morrisumc.tithelysetup5.com
DTSTART:20260809T153000Z
DTEND:20260809T163000Z
CLASS:PUBLIC
CREATED:20260422T104447
DESCRIPTION:Sunday Worship
LAST-MODIFIED:20260422T104447
LOCATION:
SUMMARY:Sunday Worship
URL;VALUE=URI:https://morrisokumc.org/events/sunday-worship/2026-08-09
END:VEVENT
END:VCALENDAR
