BEGIN:VCALENDAR
VERSION:2.0
PRODID:icalendar-ruby
CALSCALE:GREGORIAN
METHOD:PUBLISH
BEGIN:VEVENT
DTSTAMP:20260422T214653Z
UID:5-402355@morrisumc.tithelysetup5.com
DTSTART:20260830T153000Z
DTEND:20260830T163000Z
CLASS:PUBLIC
CREATED:20260422T163450
DESCRIPTION:Sunday Worship
LAST-MODIFIED:20260422T163450
LOCATION:
SUMMARY:Sunday Worship
URL;VALUE=URI:https://morrisokumc.org/events/sunday-worship/2026-08-30
END:VEVENT
END:VCALENDAR
