BEGIN:VCALENDAR
VERSION:2.0
PRODID:icalendar-ruby
CALSCALE:GREGORIAN
METHOD:PUBLISH
BEGIN:VEVENT
DTSTAMP:20260423T043230Z
UID:5-402882@morrisumc.tithelysetup5.com
DTSTART:20261004T153000Z
DTEND:20261004T163000Z
CLASS:PUBLIC
CREATED:20260422T222041
DESCRIPTION:Sunday Worship
LAST-MODIFIED:20260422T222041
LOCATION:
SUMMARY:Sunday Worship
URL;VALUE=URI:https://morrisokumc.org/events/sunday-worship/2026-10-04
END:VEVENT
END:VCALENDAR
