BEGIN:VCALENDAR
VERSION:2.0
PRODID:icalendar-ruby
CALSCALE:GREGORIAN
METHOD:PUBLISH
BEGIN:VEVENT
DTSTAMP:20260423T093850Z
UID:5-402886@morrisumc.tithelysetup5.com
DTSTART:20261101T163000Z
DTEND:20261101T173000Z
CLASS:PUBLIC
CREATED:20260422T222041
DESCRIPTION:Sunday Worship
LAST-MODIFIED:20260422T222041
LOCATION:
SUMMARY:Sunday Worship
URL;VALUE=URI:https://morrisokumc.org/events/sunday-worship/2026-11-01
END:VEVENT
END:VCALENDAR
